Workbook

Sheet Pay Application
A1: Hillsborough County Application for Payment | I1: Form No. MPWO CPAAP-4.22.2024
J3: Page 1 of
D4: Date Received:
A5: Section I. | J5: Invoice Number
A6: Project Name: | J6: Appl #
A7: CIP # | J7: Appl Date
A8: Vendor | J8: Period Start Date
A9: Bid # | J9: Period End Date
A10: Contract #
A11: PO # | J11: Supplier #
A12: WO # | J12: Tax ID #
A13: Remit Address | J13: BOCC Doc #
B15: Change Order Summary | H15: Contract Status
A16: 1 | B16: 2 | C16: 3 | D16: 4 | F16: Original Contract Sum
A17: CO # | B17: Date Approved | C17: Additive | D17: Deductive | F17: Net Change By Change Orders (Column 3 minus Column 4) | J17: =C27-D27 -> 0
F18: Contract Sum to Date | J18: =J17+J16 -> 0
F20: Value of Work In Place | J20: ='Schedule of Values'!R46 -> 0
F21: Value of Stored Materials | J21: ='Schedule of Values'!P46 -> 0
F22: Total Earned | J22: =J21+J20 -> 0
F23: Retainage at | G23: 5 | J23: =ROUND(J22*(G23/100),2) -> 0
F24: Total Earned Less Retainage | J24: =J22-J23 -> 0
F25: Previous Payments | J25: 0
F26: Less | J26: 0
A27: Totals | C27: =SUM(C18:C26) -> 0 | D27: =SUM(D18:D26) -> 0 | F27: Current Payment Due | J27: =J24-J25-J26 -> 0
A29: Section II. | B29: Certification by Contractor
A30: The undersigned Contractor certifies:
A31: 1) | B31: All amounts and items shown on this application are correct.
A32: 2) | B32: Any work performed or materials supplied have been done in accordance with the contract documents.
A33: 3) | B33: That the contractor has clear title to any materials or equipment for which the contractor is requesting payment as stored materials.
A34: 4) | B34: All amounts paid by the County to the Contractor in previous progress payments have been applied by the Contractor and the Subcontractors to promptly pay, in proportionate amounts, all subcontractors, suppliers, and others who have contributed with or materials listed in the Schedule of Values of the previous Payment Applications, except as indicated on Attachment 1, which is incorporated herein, consisting of ____page(s).
A35: 5) | B35: The Contractor will apply any sums paid by the County from this Application for Payment to subcontractors, material, supplies and others who have contributed work or materials included in the line items referenced in the attached Schedule of Values (less retainage is applicable) except as indicated on Attachment 2, which is incorporated herein, consisting of _____ pages.
A37: Contractor: | G37: STATE OF FLORIDA
G38: COUNTY OF HILLSBOROUGH
A39: By: | G39: Sworn to (or affirmed) and subscribed before me by means of [_ ] physical presence or [_ ] online notarization, this ____ day of ______________, 20____, by _____________________________ Personally Known OR Produced Identification Type of Identification Produced _____________________________
A40: Title | D40: Date:
A42: Notary Public: | E42: (SEAL)
A43: My Commission Expires:
A47: (Section III) CERTIFICATION BY HILLSBOROUGH COUNTY AND REPRESENTATIVES
A48: Based on on-site observations and the data comprising this Application for Payment, the undersigned certifies that the Work has progressed to the point indicated herein and to the best of my knowledge, information and belief is in accordance with the Contract Documents and that the CONTRACTOR is entitled to payment of the amount certified herein.
A49: Hillsborough County PROJECT MANAGER: | J49: Date
...

Sheet Schedule of Values
A1: SCHEDULE OF VALUES SUMMARY
N3: ='Pay Application'!I1 -> Form No. MPWO CPAAP-4.22.2024
N4: PAY APPLICATION NO.: | R4: ='Pay Application'!K6 -> 0
A5: PROJECT: | B5: ='Pay Application'!B6 -> 0 | N5: PAY APPLICATION DATE: | R5: ='Pay Application'!K7 -> 0
A6: CIP NUMBER: | B6: ='Pay Application'!B7 -> 0 | N6: PERIOD FROM: | R6: ='Pay Application'!K8 -> 0
A7: CONTRACTOR: | B7: ='Pay Application'!B8 -> 0 | N7: PERIOD TO: | R7: ='Pay Application'!K9 -> 0
A9: County Bid Item No. | B9: FDOT Item Number | C9: CIP Number | D9: Item Description | E9: Bid Quantity | F9: Unit of Measure | G9: Unit Price | H9: Bid Amount | I9: Previous (Quantity) | J9: Previous Amount ($) | K9: This Period (Quantity) | L9: Total Amount This Period ($) | M9: Previously Stored Material | N9: Stored Material this Period | O9: Material Installed This Period | P9: Total Stored Material | Q9: Total To Date (Quantity) | R9: Total Amount Completed (QTY x Unit) | S9: Percent Complete
H10: =ROUND(E10*G10,2) -> 0 | L10: =ROUND(K10*G10,2) -> 0 | M10: =_xlfn.XLOOKUP(A10,'Stored Materials'!A$13:A$55,'Stored Materials'!I$13:I$55,0,0,1) -> 0 | N10: =_xlfn.XLOOKUP(A10,'Stored Materials'!A$13:A$55,'Stored Materials'!J$13:J$55,0,0,1) -> 0 | O10: =_xlfn.XLOOKUP(A10,'Stored Materials'!A$13:A$55,'Stored Materials'!K$13:K$55,0,0,1) -> 0 | P10: =IFERROR(M10+N10-O10,0) -> 0 | Q10: =I10+K10 -> 0 | R10: =J10+L10 -> 0 | S10: =IFERROR(R10/H10,"")
H11: =ROUND(E11*G11,2) -> 0 | L11: =ROUND(K11*G11,2) -> 0 | M11: =_xlfn.XLOOKUP(A11,'Stored Materials'!A$13:A$55,'Stored Materials'!I$13:I$55,0,0,1) -> 0 | N11: =_xlfn.XLOOKUP(A11,'Stored Materials'!A$13:A$55,'Stored Materials'!J$13:J$55,0,0,1) -> 0 | O11: =_xlfn.XLOOKUP(A11,'Stored Materials'!A$13:A$55,'Stored Materials'!K$13:K$55,0,0,1) -> 0 | P11: =IFERROR(M11+N11-O11,0) -> 0 | Q11: =I11+K11 -> 0 | R11: =J11+L11 -> 0 | S11: =IFERROR(R11/H11,"")
H12: =ROUND(E12*G12,2) -> 0 | L12: =ROUND(K12*G12,2) -> 0 | M12: =_xlfn.XLOOKUP(A12,'Stored Materials'!A$13:A$55,'Stored Materials'!I$13:I$55,0,0,1) -> 0 | N12: =_xlfn.XLOOKUP(A12,'Stored Materials'!A$13:A$55,'Stored Materials'!J$13:J$55,0,0,1) -> 0 | O12: =_xlfn.XLOOKUP(A12,'Stored Materials'!A$13:A$55,'Stored Materials'!K$13:K$55,0,0,1) -> 0 | P12: =IFERROR(M12+N12-O12,0) -> 0 | Q12: =I12+K12 -> 0 | R12: =J12+L12 -> 0 | S12: =IFERROR(R12/H12,"")
H13: =ROUND(E13*G13,2) -> 0 | L13: =ROUND(K13*G13,2) -> 0 | M13: =_xlfn.XLOOKUP(A13,'Stored Materials'!A$13:A$55,'Stored Materials'!I$13:I$55,0,0,1) -> 0 | N13: =_xlfn.XLOOKUP(A13,'Stored Materials'!A$13:A$55,'Stored Materials'!J$13:J$55,0,0,1) -> 0 | O13: =_xlfn.XLOOKUP(A13,'Stored Materials'!A$13:A$55,'Stored Materials'!K$13:K$55,0,0,1) -> 0 | P13: =IFERROR(M13+N13-O13,0) -> 0 | Q13: =I13+K13 -> 0 | R13: =J13+L13 -> 0 | S13: =IFERROR(R13/H13,"")
H14: =ROUND(E14*G14,2) -> 0 | L14: =ROUND(K14*G14,2) -> 0 | M14: =_xlfn.XLOOKUP(A14,'Stored Materials'!A$13:A$55,'Stored Materials'!I$13:I$55,0,0,1) -> 0 | N14: =_xlfn.XLOOKUP(A14,'Stored Materials'!A$13:A$55,'Stored Materials'!J$13:J$55,0,0,1) -> 0 | O14: =_xlfn.XLOOKUP(A14,'Stored Materials'!A$13:A$55,'Stored Materials'!K$13:K$55,0,0,1) -> 0 | P14: =IFERROR(M14+N14-O14,0) -> 0 | Q14: =I14+K14 -> 0 | R14: =J14+L14 -> 0 | S14: =IFERROR(R14/H14,"")
H15: =ROUND(E15*G15,2) -> 0 | L15: =ROUND(K15*G15,2) -> 0 | M15: =_xlfn.XLOOKUP(A15,'Stored Materials'!A$13:A$55,'Stored Materials'!I$13:I$55,0,0,1) -> 0 | N15: =_xlfn.XLOOKUP(A15,'Stored Materials'!A$13:A$55,'Stored Materials'!J$13:J$55,0,0,1) -> 0 | O15: =_xlfn.XLOOKUP(A15,'Stored Materials'!A$13:A$55,'Stored Materials'!K$13:K$55,0,0,1) -> 0 | P15: =IFERROR(M15+N15-O15,0) -> 0 | Q15: =I15+K15 -> 0 | R15: =J15+L15 -> 0 | S15: =IFERROR(R15/H15,"")
H16: =ROUND(E16*G16,2) -> 0 | L16: =ROUND(K16*G16,2) -> 0 | M16: =_xlfn.XLOOKUP(A16,'Stored Materials'!A$13:A$55,'Stored Materials'!I$13:I$55,0,0,1) -> 0 | N16: =_xlfn.XLOOKUP(A16,'Stored Materials'!A$13:A$55,'Stored Materials'!J$13:J$55,0,0,1) -> 0 | O16: =_xlfn.XLOOKUP(A16,'Stored Materials'!A$13:A$55,'Stored Materials'!K$13:K$55,0,0,1) -> 0 | P16: =IFERROR(M16+N16-O16,0) -> 0 | Q16: =I16+K16 -> 0 | R16: =J16+L16 -> 0 | S16: =IFERROR(R16/H16,"")
H17: =ROUND(E17*G17,2) -> 0 | L17: =ROUND(K17*G17,2) -> 0 | M17: =_xlfn.XLOOKUP(A17,'Stored Materials'!A$13:A$55,'Stored Materials'!I$13:I$55,0,0,1) -> 0 | N17: =_xlfn.XLOOKUP(A17,'Stored Materials'!A$13:A$55,'Stored Materials'!J$13:J$55,0,0,1) -> 0 | O17: =_xlfn.XLOOKUP(A17,'Stored Materials'!A$13:A$55,'Stored Materials'!K$13:K$55,0,0,1) -> 0 | P17: =IFERROR(M17+N17-O17,0) -> 0 | Q17: =I17+K17 -> 0 | R17: =J17+L17 -> 0 | S17: =IFERROR(R17/H17,"")
H18: =ROUND(E18*G18,2) -> 0 | L18: =ROUND(K18*G18,2) -> 0 | M18: =_xlfn.XLOOKUP(A18,'Stored Materials'!A$13:A$55,'Stored Materials'!I$13:I$55,0,0,1) -> 0 | N18: =_xlfn.XLOOKUP(A18,'Stored Materials'!A$13:A$55,'Stored Materials'!J$13:J$55,0,0,1) -> 0 | O18: =_xlfn.XLOOKUP(A18,'Stored Materials'!A$13:A$55,'Stored Materials'!K$13:K$55,0,0,1) -> 0 | P18: =IFERROR(M18+N18-O18,0) -> 0 | Q18: =I18+K18 -> 0 | R18: =J18+L18 -> 0 | S18: =IFERROR(R18/H18,"")
H19: =ROUND(E19*G19,2) -> 0 | L19: =ROUND(K19*G19,2) -> 0 | M19: =_xlfn.XLOOKUP(A19,'Stored Materials'!A$13:A$55,'Stored Materials'!I$13:I$55,0,0,1) -> 0 | N19: =_xlfn.XLOOKUP(A19,'Stored Materials'!A$13:A$55,'Stored Materials'!J$13:J$55,0,0,1) -> 0 | O19: =_xlfn.XLOOKUP(A19,'Stored Materials'!A$13:A$55,'Stored Materials'!K$13:K$55,0,0,1) -> 0 | P19: =IFERROR(M19+N19-O19,0) -> 0 | Q19: =I19+K19 -> 0 | R19: =J19+L19 -> 0 | S19: =IFERROR(R19/H19,"")
H20: =ROUND(E20*G20,2) -> 0 | L20: =ROUND(K20*G20,2) -> 0 | M20: =_xlfn.XLOOKUP(A20,'Stored Materials'!A$13:A$55,'Stored Materials'!I$13:I$55,0,0,1) -> 0 | N20: =_xlfn.XLOOKUP(A20,'Stored Materials'!A$13:A$55,'Stored Materials'!J$13:J$55,0,0,1) -> 0 | O20: =_xlfn.XLOOKUP(A20,'Stored Materials'!A$13:A$55,'Stored Materials'!K$13:K$55,0,0,1) -> 0 | P20: =IFERROR(M20+N20-O20,0) -> 0 | Q20: =I20+K20 -> 0 | R20: =J20+L20 -> 0 | S20: =IFERROR(R20/H20,"")
H21: =ROUND(E21*G21,2) -> 0 | L21: =ROUND(K21*G21,2) -> 0 | M21: =_xlfn.XLOOKUP(A21,'Stored Materials'!A$13:A$55,'Stored Materials'!I$13:I$55,0,0,1) -> 0 | N21: =_xlfn.XLOOKUP(A21,'Stored Materials'!A$13:A$55,'Stored Materials'!J$13:J$55,0,0,1) -> 0 | O21: =_xlfn.XLOOKUP(A21,'Stored Materials'!A$13:A$55,'Stored Materials'!K$13:K$55,0,0,1) -> 0 | P21: =IFERROR(M21+N21-O21,0) -> 0 | Q21: =I21+K21 -> 0 | R21: =J21+L21 -> 0 | S21: =IFERROR(R21/H21,"")
... H45: =ROUND(E45*G45,2) -> 0 | L45: =ROUND(K45*G45,2) -> 0 | M45: =_xlfn.XLOOKUP(A45,'Stored Materials'!A$13:A$55,'Stored Materials'!I$13:I$55,0,0,1) -> 0 | N45: =_xlfn.XLOOKUP(A45,'Stored Materials'!A$13:A$55,'Stored Materials'!J$13:J$55,0,0,1) -> 0 | O45: =_xlfn.XLOOKUP(A45,'Stored Materials'!A$13:A$55,'Stored Materials'!K$13:K$55,0,0,1) -> 0 | P45: =IFERROR(M45+N45-O45,0) -> 0 | Q45: =I45+K45 -> 0 | R45: =J45+L45 -> 0 | S45: =IFERROR(R45/H45,"")
G46: Totals: | H46: =SUM(H10:H45) -> 0 | L46: =SUM(L10:L45) -> 0 | M46: =SUM(M10:M45) -> 0 | N46: =SUM(N10:N45) -> 0 | O46: =SUM(O10:O45) -> 0 | P46: =SUM(P10:P45) -> 0 | R46: =SUM(R10:R45) -> 0 | S46: =IFERROR(R46/H46,"")
O48: Total Earned To Date (Qty + Material) | R48: =R46+P46 -> 0
A50: THE FOLLOWING SUBCONTRATORS PERFROMED WORK DURING THE PREVIOUS PAY APPLICATION PERIOD | H50: Summary of Total by CIP
H51: CIP Number | I51: Purchase Order Total | J51: Total this Period | K51: Paid to Date | L51: Remaining
I52: =SUMIF($C$10:$C$45,H$52,H$10:H$45) -> 0 | J52: =SUMIF($C$10:$C$45,H$52,L$10:L$45) -> 0 | K52: =SUMIF($C$10:$C$98,H$52,R$10:R$98) -> 0 | L52: =I52-K52 -> 0
I53: =SUMIF($C$10:$C$45,H$52,H$10:H$45) -> 0 | J53: =SUMIF($C$10:$C$45,H$52,L$10:L$45) -> 0 | K53: =SUMIF($C$10:$C$98,H$53,R$10:R$98) -> 0 | L53: =I53-K53 -> 0
I54: =SUMIF($C$10:$C$45,H$52,H$10:H$45) -> 0 | J54: =SUMIF($C$10:$C$45,H$52,L$10:L$45) -> 0 | K54: =SUMIF($C$10:$C$98,H$54,R$10:R$98) -> 0 | L54: =I54-K54 -> 0
I55: =SUMIF($C$10:$C$45,H$52,H$10:H$45) -> 0 | J55: =SUMIF($C$10:$C$45,H$52,L$10:L$45) -> 0 | K55: =SUMIF($C$10:$C$98,H$55,R$10:R$98) -> 0 | L55: =I55-K55 -> 0

Sheet Stored Materials
A1: On-Site Stored Materials Value
A2: Section I.
A3: Project: | B3: ='Pay Application'!B6 -> 0 | H3: ='Pay Application'!I1 -> Form No. MPWO CPAAP-4.22.2024
A4: CIP # | B4: ='Pay Application'!B7 -> 0 | H4: Appl # | I4: ='Pay Application'!K6 -> 0
A5: Vendor | B5: ='Pay Application'!B8 -> 0 | H5: Appl Date | I5: ='Pay Application'!K7 -> 0
A6: Bid # | B6: ='Pay Application'!B9 -> 0 | H6: For Per From | I6: ='Pay Application'!K8 -> 0
A7: PO # | B7: ='Pay Application'!B11 -> 0 | H7: For Per To | I7: ='Pay Application'!K9 -> 0
A8: WO # | B8: ='Pay Application'!B12 -> 0
C9: A | D9: B | E9: C | F9: D = (A+B-C) | G9: E | H9: F | I9: G | J9: H | K9: I
A10: County | B10: Name of Supplier (1) | C10: Value | D10: Value | E10: Value | F10: Total Value | G10: 75% of Bid | H10: Total Stored | I10: Value | J10: Value | K10: Value
A11: Bid Item | B11: Suppliers Invoice Number, | C11: as of Last | D11: Received This | E11: Installed This | F11: of Stored | G11: Item | H11: Material | I11: Previously | J11: Claimed | K11: Installed
A12: Number | B12: Description of Item | C12: Payment (2) | D12: Period (3) | E12: Period (4) | F12: Material (5) | G12: Value (6) | H12: Claimed | I12: Claimed | J12: This Period | K12: This Period
F13: =C13+D13-E13 -> 0 | G13: {=IFERROR(INDEX(('Schedule of Values'!H:H)*0.75,MATCH('Stored Materials'!A13,'Schedule of Values'!A:A,0),1),"")} | H13: =IF(F13>0,IF((C13+D13-E13)<G13,C13+D13-E13,IF((C13+D13-E13)>G13,G13,IF((C13+D13-E13)=G13,(C13+D13-E13),""))),0) -> 0 | I13: =IF(C13>0,IF(C13<G13,C13,IF(C13>G13,G13,IF(C13=G13,C13))),0) -> 0 | J13: =IF(F13>0,IF((C13+D13)<G13,D13,IF((C13+D13)=G13,D13,IF(AND((C13+D13)>G13,I13<G13),G13-C13,0))),0) -> 0 | K13: =IF(G13>0,IF(E13<G13,E13,IF(E13>G13,G13,IF(E13=G13,E13))),0) -> 0
F14: =C14+D14-E14 -> 0 | G14: {=IFERROR(INDEX(('Schedule of Values'!H:H)*0.75,MATCH('Stored Materials'!A14,'Schedule of Values'!A:A,0),1),"")} | H14: =IF(F14>0,IF((C14+D14-E14)<G14,C14+D14-E14,IF((C14+D14-E14)>G14,G14,IF((C14+D14-E14)=G14,(C14+D14-E14),""))),0) -> 0 | I14: =IF(C14>0,IF(C14<G14,C14,IF(C14>G14,G14,IF(C14=G14,C14))),0) -> 0 | J14: =IF(F14>0,IF((C14+D14)<G14,D14,IF((C14+D14)=G14,D14,IF(AND((C14+D14)>G14,I14<G14),G14-C14,0))),0) -> 0 | K14: =IF(G14>0,IF(E14<G14,E14,IF(E14>G14,G14,IF(E14=G14,E14))),0) -> 0
F15: =C15+D15-E15 -> 0 | G15: {=IFERROR(INDEX(('Schedule of Values'!H:H)*0.75,MATCH('Stored Materials'!A15,'Schedule of Values'!A:A,0),1),"")} | H15: =IF(F15>0,IF((C15+D15-E15)<G15,C15+D15-E15,IF((C15+D15-E15)>G15,G15,IF((C15+D15-E15)=G15,(C15+D15-E15),""))),0) -> 0 | I15: =IF(C15>0,IF(C15<G15,C15,IF(C15>G15,G15,IF(C15=G15,C15))),0) -> 0 | J15: =IF(F15>0,IF((C15+D15)<G15,D15,IF((C15+D15)=G15,D15,IF(AND((C15+D15)>G15,I15<G15),G15-C15,0))),0) -> 0 | K15: =IF(G15>0,IF(E15<G15,E15,IF(E15>G15,G15,IF(E15=G15,E15))),0) -> 0
F16: =C16+D16-E16 -> 0 | G16: {=IFERROR(INDEX(('Schedule of Values'!H:H)*0.75,MATCH('Stored Materials'!A16,'Schedule of Values'!A:A,0),1),"")} | H16: =IF(F16>0,IF((C16+D16-E16)<G16,C16+D16-E16,IF((C16+D16-E16)>G16,G16,IF((C16+D16-E16)=G16,(C16+D16-E16),""))),0) -> 0 | I16: =IF(C16>0,IF(C16<G16,C16,IF(C16>G16,G16,IF(C16=G16,C16))),0) -> 0 | J16: =IF(F16>0,IF((C16+D16)<G16,D16,IF((C16+D16)=G16,D16,IF(AND((C16+D16)>G16,I16<G16),G16-C16,0))),0) -> 0 | K16: =IF(G16>0,IF(E16<G16,E16,IF(E16>G16,G16,IF(E16=G16,E16))),0) -> 0
F17: =C17+D17-E17 -> 0 | G17: {=IFERROR(INDEX(('Schedule of Values'!H:H)*0.75,MATCH('Stored Materials'!A17,'Schedule of Values'!A:A,0),1),"")} | H17: =IF(F17>0,IF((C17+D17-E17)<G17,C17+D17-E17,IF((C17+D17-E17)>G17,G17,IF((C17+D17-E17)=G17,(C17+D17-E17),""))),0) -> 0 | I17: =IF(C17>0,IF(C17<G17,C17,IF(C17>G17,G17,IF(C17=G17,C17))),0) -> 0 | J17: =IF(F17>0,IF((C17+D17)<G17,D17,IF((C17+D17)=G17,D17,IF(AND((C17+D17)>G17,I17<G17),G17-C17,0))),0) -> 0 | K17: =IF(G17>0,IF(E17<G17,E17,IF(E17>G17,G17,IF(E17=G17,E17))),0) -> 0
F18: =C18+D18-E18 -> 0 | G18: {=IFERROR(INDEX(('Schedule of Values'!H:H)*0.75,MATCH('Stored Materials'!A18,'Schedule of Values'!A:A,0),1),"")} | H18: =IF(F18>0,IF((C18+D18-E18)<G18,C18+D18-E18,IF((C18+D18-E18)>G18,G18,IF((C18+D18-E18)=G18,(C18+D18-E18),""))),0) -> 0 | I18: =IF(C18>0,IF(C18<G18,C18,IF(C18>G18,G18,IF(C18=G18,C18))),0) -> 0 | J18: =IF(F18>0,IF((C18+D18)<G18,D18,IF((C18+D18)=G18,D18,IF(AND((C18+D18)>G18,I18<G18),G18-C18,0))),0) -> 0 | K18: =IF(G18>0,IF(E18<G18,E18,IF(E18>G18,G18,IF(E18=G18,E18))),0) -> 0
F19: =C19+D19-E19 -> 0 | G19: {=IFERROR(INDEX(('Schedule of Values'!H:H)*0.75,MATCH('Stored Materials'!A19,'Schedule of Values'!A:A,0),1),"")} | H19: =IF(F19>0,IF((C19+D19-E19)<G19,C19+D19-E19,IF((C19+D19-E19)>G19,G19,IF((C19+D19-E19)=G19,(C19+D19-E19),""))),0) -> 0 | I19: =IF(C19>0,IF(C19<G19,C19,IF(C19>G19,G19,IF(C19=G19,C19))),0) -> 0 | J19: =IF(F19>0,IF((C19+D19)<G19,D19,IF((C19+D19)=G19,D19,IF(AND((C19+D19)>G19,I19<G19),G19-C19,0))),0) -> 0 | K19: =IF(G19>0,IF(E19<G19,E19,IF(E19>G19,G19,IF(E19=G19,E19))),0) -> 0
F20: =C20+D20-E20 -> 0 | G20: {=IFERROR(INDEX(('Schedule of Values'!H:H)*0.75,MATCH('Stored Materials'!A20,'Schedule of Values'!A:A,0),1),"")} | H20: =IF(F20>0,IF((C20+D20-E20)<G20,C20+D20-E20,IF((C20+D20-E20)>G20,G20,IF((C20+D20-E20)=G20,(C20+D20-E20),""))),0) -> 0 | I20: =IF(C20>0,IF(C20<G20,C20,IF(C20>G20,G20,IF(C20=G20,C20))),0) -> 0 | J20: =IF(F20>0,IF((C20+D20)<G20,D20,IF((C20+D20)=G20,D20,IF(AND((C20+D20)>G20,I20<G20),G20-C20,0))),0) -> 0 | K20: =IF(G20>0,IF(E20<G20,E20,IF(E20>G20,G20,IF(E20=G20,E20))),0) -> 0
F21: =C21+D21-E21 -> 0 | G21: {=IFERROR(INDEX(('Schedule of Values'!H:H)*0.75,MATCH('Stored Materials'!A21,'Schedule of Values'!A:A,0),1),"")} | H21: =IF(F21>0,IF((C21+D21-E21)<G21,C21+D21-E21,IF((C21+D21-E21)>G21,G21,IF((C21+D21-E21)=G21,(C21+D21-E21),""))),0) -> 0 | I21: =IF(C21>0,IF(C21<G21,C21,IF(C21>G21,G21,IF(C21=G21,C21))),0) -> 0 | J21: =IF(F21>0,IF((C21+D21)<G21,D21,IF((C21+D21)=G21,D21,IF(AND((C21+D21)>G21,I21<G21),G21-C21,0))),0) -> 0 | K21: =IF(G21>0,IF(E21<G21,E21,IF(E21>G21,G21,IF(E21=G21,E21))),0) -> 0
F22: =C22+D22-E22 -> 0 | G22: {=IFERROR(INDEX(('Schedule of Values'!H:H)*0.75,MATCH('Stored Materials'!A22,'Schedule of Values'!A:A,0),1),"")} | H22: =IF(F22>0,IF((C22+D22-E22)<G22,C22+D22-E22,IF((C22+D22-E22)>G22,G22,IF((C22+D22-E22)=G22,(C22+D22-E22),""))),0) -> 0 | I22: =IF(C22>0,IF(C22<G22,C22,IF(C22>G22,G22,IF(C22=G22,C22))),0) -> 0 | J22: =IF(F22>0,IF((C22+D22)<G22,D22,IF((C22+D22)=G22,D22,IF(AND((C22+D22)>G22,I22<G22),G22-C22,0))),0) -> 0 | K22: =IF(G22>0,IF(E22<G22,E22,IF(E22>G22,G22,IF(E22=G22,E22))),0) -> 0
F23: =C23+D23-E23 -> 0 | G23: {=IFERROR(INDEX(('Schedule of Values'!H:H)*0.75,MATCH('Stored Materials'!A23,'Schedule of Values'!A:A,0),1),"")} | H23: =IF(F23>0,IF((C23+D23-E23)<G23,C23+D23-E23,IF((C23+D23-E23)>G23,G23,IF((C23+D23-E23)=G23,(C23+D23-E23),""))),0) -> 0 | I23: =IF(C23>0,IF(C23<G23,C23,IF(C23>G23,G23,IF(C23=G23,C23))),0) -> 0 | J23: =IF(F23>0,IF((C23+D23)<G23,D23,IF((C23+D23)=G23,D23,IF(AND((C23+D23)>G23,I23<G23),G23-C23,0))),0) -> 0 | K23: =IF(G23>0,IF(E23<G23,E23,IF(E23>G23,G23,IF(E23=G23,E23))),0) -> 0
F24: =C24+D24-E24 -> 0 | G24: {=IFERROR(INDEX(('Schedule of Values'!H:H)*0.75,MATCH('Stored Materials'!A24,'Schedule of Values'!A:A,0),1),"")} | H24: =IF(F24>0,IF((C24+D24-E24)<G24,C24+D24-E24,IF((C24+D24-E24)>G24,G24,IF((C24+D24-E24)=G24,(C24+D24-E24),""))),0) -> 0 | I24: =IF(C24>0,IF(C24<G24,C24,IF(C24>G24,G24,IF(C24=G24,C24))),0) -> 0 | J24: =IF(F24>0,IF((C24+D24)<G24,D24,IF((C24+D24)=G24,D24,IF(AND((C24+D24)>G24,I24<G24),G24-C24,0))),0) -> 0 | K24: =IF(G24>0,IF(E24<G24,E24,IF(E24>G24,G24,IF(E24=G24,E24))),0) -> 0
... F55: =C55+D55-E55 -> 0 | G55: {=IFERROR(INDEX(('Schedule of Values'!H:H)*0.75,MATCH('Stored Materials'!A55,'Schedule of Values'!A:A,0),1),"")} | H55: =IF(F55>0,IF((C55+D55-E55)<G55,C55+D55-E55,IF((C55+D55-E55)>G55,G55,IF((C55+D55-E55)=G55,(C55+D55-E55),""))),0) -> 0 | I55: =IF(C55>0,IF(C55<G55,C55,IF(C55>G55,G55,IF(C55=G55,C55))),0) -> 0 | J55: =IF(F55>0,IF((C55+D55)<G55,D55,IF((C55+D55)=G55,D55,IF(AND((C55+D55)>G55,I55<G55),G55-C55,0))),0) -> 0 | K55: =IF(G55>0,IF(E55<G55,E55,IF(E55>G55,G55,IF(E55=G55,E55))),0) -> 0
B56: TOTALS | C56: =SUM(C13:C55) -> 0 | D56: =SUM(D13:D55) -> 0 | E56: =SUM(E13:E55) -> 0 | F56: =SUM(F13:F55) -> 0 | G56: =SUM(G13:G55) -> 0 | H56: =SUM(H13:H55) -> 0 | I56: =SUM(I13:I55) -> 0 | J56: =SUM(J13:J55) -> 0 | K56: =SUM(K13:K55) -> 0
A58: (1) Copies of actual invoices for each supplier must be attached
A59: (2) Column D from Last Payment.
A60: (3) Total value of stored material being claimed this period
A61: (4) Total value of stored material installed this period
A62: (5) Total value of stored material
A63: (6) Maximum amount payable for on-site storage (Auto Calculated)
A64: Columsn F, G, and H auto calculate

Sheet Statement of Satisfaction
A1: =CONCATENATE("(Attachment to General Contractor's Application for Payment No."," ",'Pay Application'!K6,")") -> (Attachment to General Contractor's Application for Payment No. )
J3: ='Pay Application'!I1 -> Form No. MPWO CPAAP-4.22.2024
A5: Note: The General Contractor shall attach this statement to each Application for Payment beginning with the second Application for Payment. This statement is applicable to each subcontractor whose work appeared on the prior Application for Payment for which the General Contractor has been paid.
A7: KNOW ALL MEN BY THESES PRESENTS, That,
A8: (Name)
A9: representing
A10: whose address is
A11: with the title of | J11: who after being first duly sworn
A12: upon oath, deposes and says that pursuant to the provisions of the contract for:
A14: Project Number
A15: Project Name
A16: General Contractor
A18: that all monies due him/her from the General Contractor's Application for Payment No. | L18: 0
A19: (Period of work: | C19: 0 | F19: to | G19: 0 | K19: ) have been paid to him/ her
A22: STATE OF FLORIDA
A23: COUNTY OF HILLSBOROUGH
A25: Sworn to (or affirmed) and subscribed before me by means of | I25: physical presence or | M25: online notarization,
A26: this | C26: day of | F26: , 20 | I26: , by
B27: (Day) | D27: (Month) | G27: (YY) | J27: (Name of person making statement)
G32: (Signature of Notary Public - State of Florida)
G37: (Print, Type, Or Stamp Commissioned Name of Notary Public)
A39: Personally Known or Produced Identification
A40: Type of Identification Produced

Sheet Affidavit of Payment
A1: =CONCATENATE("(Attachment to General Contractor's Application for Payment No."," ",'Pay Application'!K6,")") -> (Attachment to General Contractor's Application for Payment No. )
J3: ='Pay Application'!I1 -> Form No. MPWO CPAAP-4.22.2024
A5: The undersigned hereby certifies that except as noted below all bills for labor, services, and materials furnished by
A6: the CONTRATOR and all suppliers and/or subcontractors of the CONTRACTOR under and pursuant to the
A7: provisions of the agreement dated the | F7: day of | L7: ,20 | N7: between
A8: the Hillsborough County Board of County Commissioners (COUNTY) and
E9: (CONTRATOR) | H9: concerning that certain project designated as
J10: have been paid in full or otherwise
A11: satisfied including all known indebtedness and all claims for damages against said CONTRATOR arising in any manner in connection with the performance of the Agreement referenced above for with the COUNTY might in any way be held responsible.
A13: Exceptions: | E13: (If None, write "None")
E14: (If Yes, write "Yes" and attach list)
A16: Certified this | D16: day of | H16: , 20
G18: CONTRATOR:
G20: BY:
H23: Title
A24: STATE OF FLORIDA
A25: COUNTY OF HILLSBOROUGH
A27: Sworn to (or affirmed) and subscribed before me by means of | I27: physical presence or | M27: online notarization,
A28: this | C28: day of | F28: , 20 | I28: , by
B29: (Day) | D29: (Month) | G29: (YY) | J29: (Name of person making statement)
G34: (Signature of Notary Public - State of Florida)
G39: (Print, Type, Or Stamp Commissioned Name of Notary Public)
A41: Personally Known or Produced Identification
A42: Type of Identification Produced

Sheet Attachment 1
A1: Section II. | H1: ='Pay Application'!I1 -> Form No. MPWO CPAAP-4.22.2024
A2: Project: | B2: =+'Pay Application'!B6 -> 0 | F2: ATTACHMENT 1 | H2: Appl # | I2: =+'Pay Application'!K6 -> 0
A3: CIP # | B3: =+'Pay Application'!B7 -> 0 | H3: Appl Date | I3: =+'Pay Application'!K7 -> 0
A4: Bid # | B4: =+'Pay Application'!B9 -> 0 | E4: * (Prior applications; see section II, item 4) | H4: For Per From | I4: =+'Pay Application'!K8 -> 0
A5: Contractor: | B5: =+'Pay Application'!B8 -> 0 | H5: For Per To | I5: =+'Pay Application'!K9 -> 0
A8: Name of Entity | C8: Relationship | E8: Amount in Dispute | F8: Application for Payment No. or Corresponding line item reference to Schedule of Values | H8: Explanation
A27: This Page IS NOT Applicable
H29: Contractor Signature

Sheet Attachment 2
A1: Section II. | H1: ='Pay Application'!I1 -> Form No. MPWO CPAAP-4.22.2024
A2: Project: | B2: =+'Pay Application'!B6 -> 0 | F2: ATTACHMENT 2 | H2: Appl # | I2: =+'Pay Application'!K6 -> 0
A3: CIP # | B3: =+'Pay Application'!B7 -> 0 | H3: Appl Date | I3: =+'Pay Application'!K7 -> 0
A4: Bid # | B4: =+'Pay Application'!B9 -> 0 | E4: * (Current applications; see section II, item 5) | H4: For Per From | I4: =+'Pay Application'!K8 -> 0
A5: Contractor: | B5: =+'Pay Application'!B8 -> 0 | H5: For Per To | I5: =+'Pay Application'!K9 -> 0
A8: Name of Entity | C8: Relationship | E8: Amount in Dispute | F8: Application for Payment No. or Corresponding line item reference to Schedule of Values | H8: Explanation
A27: This Page IS NOT Applicable
H29: Contractor Signature

Sheet Consent of Surety
L1: ='Pay Application'!I1 -> Form No. MPWO CPAAP-4.22.2024
B3: WHEREAS, the BOARD OF COUNTY COMMISSIONERS OF HILLSBOROUGH COUNTY,
A4: FLORIDA, hereinafter called the "OWNER", and | Q4: hereinafter
A5: called the "CONTRACTOR", entered into an Agreement on | Q5: ,20
A6: , for the purpose of | R6: ; and
B8: WHEREAS, | L8: hereinafter called the "SURETY", is bound
A9: to the OWNER through its Performance and Payment Bond dated | Q9: ,20
A10: and in the sum of | D10: $ | I10: .
B12: NOW, THEREFORE, the SURETY does hereby approve of the Final Payment by the OWNER to the
A13: CONTRACTOR and agrees that said Final Payment shall not relieve the SURETY of any obligations to the OWNER as set forth in the aforesaid BOND.
B15: Given this | E15: day of | K15: ,20 | M15: ,
A17: SURETY:
K19: BY:
A20: Witness | L20: Authorized Signature
K22: BY:
A23: Witness | L23: As Attorney in Fact
K25: BY:
L26: Agency (attach Power of Attorney)
A28: STATE OF FLORIDA
A29: COUNTY OF HILLSBOROUGH
A31: Sworn to (or affirmed) and subscribed before me by means of | J31: physical presence or | O31: online notarization,
A32: this | C32: day of | G32: , 20 | J32: , by
B33: (DD) | D33: (Month) | H33: (YY) | K33: (Name of person making statement)
I38: (Signature of Notary Public - State of Florida)
I43: (Print, Type, Or Stamp Commissioned Name of Notary Public)
A45: Personally Known or Produced Identification
A46: Type of Identification Produced
