Workbook

Sheet Instructions
A1: Pay Application Tab
A2: Fill Out the Information in The Following Boxes.
A3: Previous Payments will need to manually entered from last pay applicaton. All other values will auto calculate.
A44: Schedule of Values Tab
A45: Fill out the information for the boxes in red
A46: For subsequent pay applications, copy boxes in blue and text paste into the green columns
A47: Stored material will auto update from the Stored Material Sheet
A48: Insert Additional Lines as needed, copy formulas from the upper rows down.
A76: Stored Materials
A77: Input county bid item number, description of materia and the total of all material from all vendors in the Value Received This Period (column C)
A78: ALL STORED MATERIAL SHOULD BE TOTALED UP PER BID ITEM (example: if there are 3 invoices for item 10, all three invoices should be totaled and that amount input into Value Received This Period)
A79: Column 1 should include the supplier, and invoice number for each should all be input on one line. (Example: 3 invoice for Item 10 should be input as Supplier A - INV ###, Suplier B - INV ###, . . . )
... A82: The remaining columns will automaticaly calculate and pull the correspondeing values to the schedule of values.

Sheet Pay Application
A1: Hillsborough County Application for Payment | I1: Form No. WO CPAAP-4.22.2024
J3: Page 1 of
D4: Date Received:
A5: Section I.
A6: Project Name: | J6: Appl #
A7: CIP # | J7: Appl Date
A8: Vendor | J8: Period Start Date
A9: Bid # | J9: Period End Date
A10: Contract #
A11: PO # | J11: Supplier #
A12: WO # | J12: Tax ID #
A13: Remit Address | J13: BOCC Doc #
B15: Change Order Summary | H15: Contract Status
A16: 1 | B16: 2 | C16: 3 | D16: 4 | F16: Original Contract Sum | J16: ='Schedule of Values'!G74 -> 0
A17: CO # | B17: Date Approved | C17: Additive | D17: Deductive | F17: Net Change By Change Orders (Column 3 minus Column 4) | J17: =C27-D27 -> 0
F18: Contract Sum to Date | J18: =J17+J16 -> 0
F20: Value of Work In Place | J20: ='Schedule of Values'!Q74 -> 0
F21: Value of Stored Materials | J21: ='Schedule of Values'!O74 -> 0
F22: Total Earned | J22: =J21+J20 -> 0
F23: Retainage at | G23: 5 | J23: =ROUND(J22*(G23/100),2) -> 0
F24: Total Earned Less Retainage | J24: =J22-J23 -> 0
F25: Previous Payments | J25: 0
F26: Less | J26: 0
A27: Totals | C27: =SUM(C18:C26) -> 0 | D27: =SUM(D18:D26) -> 0 | F27: Current Payment Due | J27: =J24-J25-J26 -> 0
A29: Section II. | B29: Certification by Contractor
A30: The undersigned Contractor certifies:
A31: 1) | B31: All amounts and items shown on this application are correct.
A32: 2) | B32: Any work performed or materials supplied have been done in accordance with the contract documents.
A33: 3) | B33: That the contractor has clear title to any materials or equipment for which the contractor is requesting payment as stored materials.
A34: 4) | B34: All amounts paid by the County to the Contractor in previous progress payments have been applied by the Contractor and the Subcontractors to promptly pay, in proportionate amounts, all subcontractors, suppliers, and others who have contributed with or materials listed in the Schedule of Values of the previous Payment Applications, except as indicated on Attachment 1, which is incorporated herein, consisting of ____page(s).
A35: 5) | B35: The Contractor will apply any sums paid by the County from this Application for Payment to subcontractors, material, supplies and others who have contributed work or materials included in the line items referenced in the attached Schedule of Values (less retainage is applicable) except as indicated on Attachment 2, which is incorporated herein, consisting of _____ pages.
A37: Contractor: | G37: Pursuant to Section 117.05(13)(a), Florida Statutes, the following notarial certificate is sufficient for an oath or affirmation: STATE OF FLORIDA COUNTY OF HILLSBOROUGH
A38: By:
A39: Title | D39: Date: | G39: Sworn to (or affirmed) and subscribed before me by means of [_ ] physical presence or [_ ] online notarization, this ____ day of ______________, 20____, by _____________________________ Personally Known OR Produced Identification
A41: Notary Public: | E41: (SEAL)
A42: My Commission Expires:
A46: (Section III) CERTIFICATION BY HILLSBOROUGH COUNTY AND REPRESENTATIVES
A47: Based on on-site observations and the data comprising this Application for Payment, the undersigned certifies that the Work has progressed to the point indicated herein and to the best of my knowledge, information and belief is in accordance with the Contract Documents and that the CONTRACTOR is entitled to payment of the amount certified herein.
A48: Hillsborough County PROJECT MANAGER: | J48: Date
A49: Professional Consultant:
...

Sheet Schedule of Values
A1: SCHEDULE OF VALUES SUMMARY
M3: ='Pay Application'!I1 -> Form No. WO CPAAP-4.22.2024
M4: PAY APPLICATION NO.: | Q4: ='Pay Application'!K6 -> 0
A5: PROJECT: | B5: ='Pay Application'!B6 -> 0 | M5: PAY APPLICATION DATE: | Q5: ='Pay Application'!K7 -> 0
A6: CIP NUMBER | B6: ='Pay Application'!B7 -> 0 | M6: PERIOD FROM: | Q6: ='Pay Application'!K8 -> 0
A7: CONTRACTOR: | B7: ='Pay Application'!B8 -> 0 | M7: PERIOD TO: | Q7: ='Pay Application'!K9 -> 0
A9: County Bid Item No. | B9: FDOT Item Number | C9: Item Description | D9: Bid Quantity | E9: Unit of Measure | F9: Unit Price | G9: Bid Amount | H9: Previous (Quantity) | I9: Previous Amount ($) | J9: This Period (Quantity) | K9: Total Amount This Period ($) | L9: Previously Stored Material | M9: Stored Material this Period | N9: Material Installed This Period | O9: Total Stored Material | P9: Total To Date (Quantity) | Q9: Total Amount Completed (QTY x Unit) | R9: Percent Complete
G10: =ROUND(D10*F10,2) -> 0 | K10: =ROUND(J10*F10,2) -> 0 | L10: =IFERROR(VLOOKUP(A10,'Stored Materials'!A:J,9,FALSE),0) -> 0 | M10: =IFERROR(VLOOKUP(A10,'Stored Materials'!A:J,10,FALSE),0) -> 0 | N10: =IFERROR(VLOOKUP(A10,'Stored Materials'!A:J,5,FALSE),0) -> 0 | O10: =IFERROR(L10+M10-N10,0) -> 0 | P10: =H10+J10 -> 0 | Q10: =I10+K10 -> 0 | R10: =IFERROR(Q10/G10,"")
G11: =ROUND(D11*F11,2) -> 0 | K11: =ROUND(J11*F11,2) -> 0 | L11: =IFERROR(VLOOKUP(A11,'Stored Materials'!A:J,9,FALSE),0) -> 0 | M11: =IFERROR(VLOOKUP(A11,'Stored Materials'!A:J,10,FALSE),0) -> 0 | N11: =IFERROR(VLOOKUP(A11,'Stored Materials'!A:J,5,FALSE),0) -> 0 | O11: =IFERROR(L11+M11-N11,0) -> 0 | P11: =H11+J11 -> 0 | Q11: =I11+K11 -> 0 | R11: =IFERROR(Q11/G11,"")
G12: =ROUND(D12*F12,2) -> 0 | K12: =ROUND(J12*F12,2) -> 0 | L12: =IFERROR(VLOOKUP(A12,'Stored Materials'!A:J,9,FALSE),0) -> 0 | M12: =IFERROR(VLOOKUP(A12,'Stored Materials'!A:J,10,FALSE),0) -> 0 | N12: =IFERROR(VLOOKUP(A12,'Stored Materials'!A:J,5,FALSE),0) -> 0 | O12: =IFERROR(L12+M12-N12,0) -> 0 | P12: =H12+J12 -> 0 | Q12: =I12+K12 -> 0 | R12: =IFERROR(Q12/G12,"")
G13: =ROUND(D13*F13,2) -> 0 | K13: =ROUND(J13*F13,2) -> 0 | L13: =IFERROR(VLOOKUP(A13,'Stored Materials'!A:J,9,FALSE),0) -> 0 | M13: =IFERROR(VLOOKUP(A13,'Stored Materials'!A:J,10,FALSE),0) -> 0 | N13: =IFERROR(VLOOKUP(A13,'Stored Materials'!A:J,5,FALSE),0) -> 0 | O13: =IFERROR(L13+M13-N13,0) -> 0 | P13: =H13+J13 -> 0 | Q13: =I13+K13 -> 0 | R13: =IFERROR(Q13/G13,"")
G14: =ROUND(D14*F14,2) -> 0 | K14: =ROUND(J14*F14,2) -> 0 | L14: =IFERROR(VLOOKUP(A14,'Stored Materials'!A:J,9,FALSE),0) -> 0 | M14: =IFERROR(VLOOKUP(A14,'Stored Materials'!A:J,10,FALSE),0) -> 0 | N14: =IFERROR(VLOOKUP(A14,'Stored Materials'!A:J,5,FALSE),0) -> 0 | O14: =IFERROR(L14+M14-N14,0) -> 0 | P14: =H14+J14 -> 0 | Q14: =I14+K14 -> 0 | R14: =IFERROR(Q14/G14,"")
G15: =ROUND(D15*F15,2) -> 0 | K15: =ROUND(J15*F15,2) -> 0 | L15: =IFERROR(VLOOKUP(A15,'Stored Materials'!A:J,9,FALSE),0) -> 0 | M15: =IFERROR(VLOOKUP(A15,'Stored Materials'!A:J,10,FALSE),0) -> 0 | N15: =IFERROR(VLOOKUP(A15,'Stored Materials'!A:J,5,FALSE),0) -> 0 | O15: =IFERROR(L15+M15-N15,0) -> 0 | P15: =H15+J15 -> 0 | Q15: =I15+K15 -> 0 | R15: =IFERROR(Q15/G15,"")
G16: =ROUND(D16*F16,2) -> 0 | K16: =ROUND(J16*F16,2) -> 0 | L16: =IFERROR(VLOOKUP(A16,'Stored Materials'!A:J,9,FALSE),0) -> 0 | M16: =IFERROR(VLOOKUP(A16,'Stored Materials'!A:J,10,FALSE),0) -> 0 | N16: =IFERROR(VLOOKUP(A16,'Stored Materials'!A:J,5,FALSE),0) -> 0 | O16: =IFERROR(L16+M16-N16,0) -> 0 | P16: =H16+J16 -> 0 | Q16: =I16+K16 -> 0 | R16: =IFERROR(Q16/G16,"")
G17: =ROUND(D17*F17,2) -> 0 | K17: =ROUND(J17*F17,2) -> 0 | L17: =IFERROR(VLOOKUP(A17,'Stored Materials'!A:J,9,FALSE),0) -> 0 | M17: =IFERROR(VLOOKUP(A17,'Stored Materials'!A:J,10,FALSE),0) -> 0 | N17: =IFERROR(VLOOKUP(A17,'Stored Materials'!A:J,5,FALSE),0) -> 0 | O17: =IFERROR(L17+M17-N17,0) -> 0 | P17: =H17+J17 -> 0 | Q17: =I17+K17 -> 0 | R17: =IFERROR(Q17/G17,"")
G18: =ROUND(D18*F18,2) -> 0 | K18: =ROUND(J18*F18,2) -> 0 | L18: =IFERROR(VLOOKUP(A18,'Stored Materials'!A:J,9,FALSE),0) -> 0 | M18: =IFERROR(VLOOKUP(A18,'Stored Materials'!A:J,10,FALSE),0) -> 0 | N18: =IFERROR(VLOOKUP(A18,'Stored Materials'!A:J,5,FALSE),0) -> 0 | O18: =IFERROR(L18+M18-N18,0) -> 0 | P18: =H18+J18 -> 0 | Q18: =I18+K18 -> 0 | R18: =IFERROR(Q18/G18,"")
G19: =ROUND(D19*F19,2) -> 0 | K19: =ROUND(J19*F19,2) -> 0 | L19: =IFERROR(VLOOKUP(A19,'Stored Materials'!A:J,9,FALSE),0) -> 0 | M19: =IFERROR(VLOOKUP(A19,'Stored Materials'!A:J,10,FALSE),0) -> 0 | N19: =IFERROR(VLOOKUP(A19,'Stored Materials'!A:J,5,FALSE),0) -> 0 | O19: =IFERROR(L19+M19-N19,0) -> 0 | P19: =H19+J19 -> 0 | Q19: =I19+K19 -> 0 | R19: =IFERROR(Q19/G19,"")
G20: =ROUND(D20*F20,2) -> 0 | K20: =ROUND(J20*F20,2) -> 0 | L20: =IFERROR(VLOOKUP(A20,'Stored Materials'!A:J,9,FALSE),0) -> 0 | M20: =IFERROR(VLOOKUP(A20,'Stored Materials'!A:J,10,FALSE),0) -> 0 | N20: =IFERROR(VLOOKUP(A20,'Stored Materials'!A:J,5,FALSE),0) -> 0 | O20: =IFERROR(L20+M20-N20,0) -> 0 | P20: =H20+J20 -> 0 | Q20: =I20+K20 -> 0 | R20: =IFERROR(Q20/G20,"")
G21: =ROUND(D21*F21,2) -> 0 | K21: =ROUND(J21*F21,2) -> 0 | L21: =IFERROR(VLOOKUP(A21,'Stored Materials'!A:J,9,FALSE),0) -> 0 | M21: =IFERROR(VLOOKUP(A21,'Stored Materials'!A:J,10,FALSE),0) -> 0 | N21: =IFERROR(VLOOKUP(A21,'Stored Materials'!A:J,5,FALSE),0) -> 0 | O21: =IFERROR(L21+M21-N21,0) -> 0 | P21: =H21+J21 -> 0 | Q21: =I21+K21 -> 0 | R21: =IFERROR(Q21/G21,"")
... G73: =ROUND(D73*F73,2) -> 0 | K73: =ROUND(J73*F73,2) -> 0 | L73: =IFERROR(VLOOKUP(A73,'Stored Materials'!A:J,9,FALSE),0) -> 0 | M73: =IFERROR(VLOOKUP(A73,'Stored Materials'!A:J,10,FALSE),0) -> 0 | N73: =IFERROR(VLOOKUP(A73,'Stored Materials'!A:J,5,FALSE),0) -> 0 | O73: =IFERROR(L73+M73-N73,0) -> 0 | P73: =H73+J73 -> 0 | Q73: =I73+K73 -> 0 | R73: =IFERROR(Q73/G73,"")
F74: Totals: | G74: =SUM(G10:G73) -> 0 | K74: =SUM(K10:K73) -> 0 | L74: =SUM(L10:L73) -> 0 | M74: =SUM(M10:M73) -> 0 | N74: =SUM(N10:N73) -> 0 | O74: =SUM(O10:O73) -> 0 | Q74: =SUM(Q10:Q73) -> 0 | R74: =IFERROR(Q74/G74,"")
N76: Total Earned To Date (Qty + Material) | Q76: =Q74+O74 -> 0
A78: THE FOLLOWING SUBCONTRATORS PERFROMED WORK DURING THE CURRENT PAY APPLICATION PERIOD

Sheet Stored Materials
A1: On-Site Stored Materials Value
A2: Section I.
A3: Project: | B3: ='Pay Application'!B6 -> 0 | H3: ='Pay Application'!I1 -> Form No. WO CPAAP-4.22.2024
A4: CIP # | B4: ='Pay Application'!B7 -> 0 | H4: Appl # | I4: ='Pay Application'!K6 -> 0
A5: Vendor | B5: ='Pay Application'!B8 -> 0 | H5: Appl Date | I5: ='Pay Application'!K7 -> 0
A6: Bid # | B6: ='Pay Application'!B9 -> 0 | H6: For Per From | I6: ='Pay Application'!K8 -> 0
A7: PO # | B7: ='Pay Application'!B11 -> 0 | H7: For Per To | I7: ='Pay Application'!K9 -> 0
A8: WO # | B8: ='Pay Application'!B12 -> 0
C9: A | D9: B | E9: C | F9: D = (A+B-C) | G9: E | H9: F | I9: G | J9: H
A10: County | B10: Name of Supplier (1) | C10: Value | D10: Value | E10: Value | F10: Total Value | G10: 75% of Bid | H10: Total Stored | I10: Value | J10: Value
A11: Bid Item | B11: Suppliers Invoice Number, | C11: as of Last | D11: Received This | E11: Installed This | F11: of Stored | G11: Item | H11: Material | I11: Previously | J11: Claimed
A12: Number | B12: Description of Item | C12: Payment (2) | D12: Period (3) | E12: Period (4) | F12: Material (5) | G12: Value (6) | H12: Claimed | I12: Claimed | J12: This Period
F13: =C13+D13-E13 -> 0 | G13: {=IFERROR(INDEX(('Schedule of Values'!G:G)*0.75,MATCH('Stored Materials'!A13,'Schedule of Values'!A:A,0),1),"")} | H13: =IF(F13>0,IF((C13+D13)<G13,C13+D13,IF((C13+D13)>G13,G13,"")),0) -> 0 | I13: =IF(C13>0,IF(C13<G13,C13,IF(C13>G13,G13,IF(C13=G13,C13))),0) -> 0 | J13: =IF(F13>0,IF((C13+D13)<G13,D13,IF((C13+D13)=G13,D13,IF(AND((C13+D13)>G13,I13<G13),G13-C13,0))),0) -> 0
F14: =C14+D14-E14 -> 0 | G14: {=IFERROR(INDEX(('Schedule of Values'!G:G)*0.75,MATCH('Stored Materials'!A14,'Schedule of Values'!A:A,0),1),"")} | H14: =IF(F14>0,IF((C14+D14)<G14,C14+D14,IF((C14+D14)>G14,G14,"")),0) -> 0 | I14: =IF(C14>0,IF(C14<G14,C14,IF(C14>G14,G14,IF(C14=G14,C14))),0) -> 0 | J14: =IF(F14>0,IF((C14+D14)<G14,D14,IF((C14+D14)=G14,D14,IF(AND((C14+D14)>G14,I14<G14),G14-C14,0))),0) -> 0
F15: =C15+D15-E15 -> 0 | G15: {=IFERROR(INDEX(('Schedule of Values'!G:G)*0.75,MATCH('Stored Materials'!A15,'Schedule of Values'!A:A,0),1),"")} | H15: =IF(F15>0,IF((C15+D15)<G15,C15+D15,IF((C15+D15)>G15,G15,"")),0) -> 0 | I15: =IF(C15>0,IF(C15<G15,C15,IF(C15>G15,G15,IF(C15=G15,C15))),0) -> 0 | J15: =IF(F15>0,IF((C15+D15)<G15,D15,IF((C15+D15)=G15,D15,IF(AND((C15+D15)>G15,I15<G15),G15-C15,0))),0) -> 0
F16: =C16+D16-E16 -> 0 | G16: {=IFERROR(INDEX(('Schedule of Values'!G:G)*0.75,MATCH('Stored Materials'!A16,'Schedule of Values'!A:A,0),1),"")} | H16: =IF(F16>0,IF((C16+D16)<G16,C16+D16,IF((C16+D16)>G16,G16,"")),0) -> 0 | I16: =IF(C16>0,IF(C16<G16,C16,IF(C16>G16,G16,IF(C16=G16,C16))),0) -> 0 | J16: =IF(F16>0,IF((C16+D16)<G16,D16,IF((C16+D16)=G16,D16,IF(AND((C16+D16)>G16,I16<G16),G16-C16,0))),0) -> 0
F17: =C17+D17-E17 -> 0 | G17: {=IFERROR(INDEX(('Schedule of Values'!G:G)*0.75,MATCH('Stored Materials'!A17,'Schedule of Values'!A:A,0),1),"")} | H17: =IF(F17>0,IF((C17+D17)<G17,C17+D17,IF((C17+D17)>G17,G17,"")),0) -> 0 | I17: =IF(C17>0,IF(C17<G17,C17,IF(C17>G17,G17,IF(C17=G17,C17))),0) -> 0 | J17: =IF(F17>0,IF((C17+D17)<G17,D17,IF((C17+D17)=G17,D17,IF(AND((C17+D17)>G17,I17<G17),G17-C17,0))),0) -> 0
F18: =C18+D18-E18 -> 0 | G18: {=IFERROR(INDEX(('Schedule of Values'!G:G)*0.75,MATCH('Stored Materials'!A18,'Schedule of Values'!A:A,0),1),"")} | H18: =IF(F18>0,IF((C18+D18)<G18,C18+D18,IF((C18+D18)>G18,G18,"")),0) -> 0 | I18: =IF(C18>0,IF(C18<G18,C18,IF(C18>G18,G18,IF(C18=G18,C18))),0) -> 0 | J18: =IF(F18>0,IF((C18+D18)<G18,D18,IF((C18+D18)=G18,D18,IF(AND((C18+D18)>G18,I18<G18),G18-C18,0))),0) -> 0
F19: =C19+D19-E19 -> 0 | G19: {=IFERROR(INDEX(('Schedule of Values'!G:G)*0.75,MATCH('Stored Materials'!A19,'Schedule of Values'!A:A,0),1),"")} | H19: =IF(F19>0,IF((C19+D19)<G19,C19+D19,IF((C19+D19)>G19,G19,"")),0) -> 0 | I19: =IF(C19>0,IF(C19<G19,C19,IF(C19>G19,G19,IF(C19=G19,C19))),0) -> 0 | J19: =IF(F19>0,IF((C19+D19)<G19,D19,IF((C19+D19)=G19,D19,IF(AND((C19+D19)>G19,I19<G19),G19-C19,0))),0) -> 0
F20: =C20+D20-E20 -> 0 | G20: {=IFERROR(INDEX(('Schedule of Values'!G:G)*0.75,MATCH('Stored Materials'!A20,'Schedule of Values'!A:A,0),1),"")} | H20: =IF(F20>0,IF((C20+D20)<G20,C20+D20,IF((C20+D20)>G20,G20,"")),0) -> 0 | I20: =IF(C20>0,IF(C20<G20,C20,IF(C20>G20,G20,IF(C20=G20,C20))),0) -> 0 | J20: =IF(F20>0,IF((C20+D20)<G20,D20,IF((C20+D20)=G20,D20,IF(AND((C20+D20)>G20,I20<G20),G20-C20,0))),0) -> 0
F21: =C21+D21-E21 -> 0 | G21: {=IFERROR(INDEX(('Schedule of Values'!G:G)*0.75,MATCH('Stored Materials'!A21,'Schedule of Values'!A:A,0),1),"")} | H21: =IF(F21>0,IF((C21+D21)<G21,C21+D21,IF((C21+D21)>G21,G21,"")),0) -> 0 | I21: =IF(C21>0,IF(C21<G21,C21,IF(C21>G21,G21,IF(C21=G21,C21))),0) -> 0 | J21: =IF(F21>0,IF((C21+D21)<G21,D21,IF((C21+D21)=G21,D21,IF(AND((C21+D21)>G21,I21<G21),G21-C21,0))),0) -> 0
F22: =C22+D22-E22 -> 0 | G22: {=IFERROR(INDEX(('Schedule of Values'!G:G)*0.75,MATCH('Stored Materials'!A22,'Schedule of Values'!A:A,0),1),"")} | H22: =IF(F22>0,IF((C22+D22)<G22,C22+D22,IF((C22+D22)>G22,G22,"")),0) -> 0 | I22: =IF(C22>0,IF(C22<G22,C22,IF(C22>G22,G22,IF(C22=G22,C22))),0) -> 0 | J22: =IF(F22>0,IF((C22+D22)<G22,D22,IF((C22+D22)=G22,D22,IF(AND((C22+D22)>G22,I22<G22),G22-C22,0))),0) -> 0
F23: =C23+D23-E23 -> 0 | G23: {=IFERROR(INDEX(('Schedule of Values'!G:G)*0.75,MATCH('Stored Materials'!A23,'Schedule of Values'!A:A,0),1),"")} | H23: =IF(F23>0,IF((C23+D23)<G23,C23+D23,IF((C23+D23)>G23,G23,"")),0) -> 0 | I23: =IF(C23>0,IF(C23<G23,C23,IF(C23>G23,G23,IF(C23=G23,C23))),0) -> 0 | J23: =IF(F23>0,IF((C23+D23)<G23,D23,IF((C23+D23)=G23,D23,IF(AND((C23+D23)>G23,I23<G23),G23-C23,0))),0) -> 0
F24: =C24+D24-E24 -> 0 | G24: {=IFERROR(INDEX(('Schedule of Values'!G:G)*0.75,MATCH('Stored Materials'!A24,'Schedule of Values'!A:A,0),1),"")} | H24: =IF((C24+D24)<G24,C24+D24,IF((C24+D24)>G24,G24,"")) -> 0 | I24: =IF(C24>0,IF(C24<G24,C24,IF(C24>G24,G24,IF(C24=G24,C24))),0) -> 0 | J24: =IF(F24>0,IF((C24+D24)<G24,D24,IF((C24+D24)=G24,D24,IF(AND((C24+D24)>G24,I24<G24),G24-C24,0))),0) -> 0
F25: =C25+D25-E25 -> 0 | G25: {=IFERROR(INDEX(('Schedule of Values'!G:G)*0.75,MATCH('Stored Materials'!A25,'Schedule of Values'!A:A,0),1),"")} | H25: =IF((C25+D25)<G25,C25+D25,IF((C25+D25)>G25,G25,"")) -> 0 | I25: =IF(C25>0,IF(C25<G25,C25,IF(C25>G25,G25,IF(C25=G25,C25))),0) -> 0 | J25: =IF(F25>0,IF((C25+D25)<G25,D25,IF((C25+D25)=G25,D25,IF(AND((C25+D25)>G25,I25<G25),G25-C25,0))),0) -> 0
F26: =C26+D26-E26 -> 0 | G26: {=IFERROR(INDEX(('Schedule of Values'!G:G)*0.75,MATCH('Stored Materials'!A26,'Schedule of Values'!A:A,0),1),"")} | H26: =IF((C26+D26)<G26,C26+D26,IF((C26+D26)>G26,G26,"")) -> 0 | I26: =IF(C26>0,IF(C26<G26,C26,IF(C26>G26,G26,IF(C26=G26,C26))),0) -> 0 | J26: =IF(F26>0,IF((C26+D26)<G26,D26,IF((C26+D26)=G26,D26,IF(AND((C26+D26)>G26,I26<G26),G26-C26,0))),0) -> 0
F27: =C27+D27-E27 -> 0 | G27: {=IFERROR(INDEX(('Schedule of Values'!G:G)*0.75,MATCH('Stored Materials'!A27,'Schedule of Values'!A:A,0),1),"")} | H27: =IF((C27+D27)<G27,C27+D27,IF((C27+D27)>G27,G27,"")) -> 0 | I27: =IF(C27>0,IF(C27<G27,C27,IF(C27>G27,G27,IF(C27=G27,C27))),0) -> 0 | J27: =IF(F27>0,IF((C27+D27)<G27,D27,IF((C27+D27)=G27,D27,IF(AND((C27+D27)>G27,I27<G27),G27-C27,0))),0) -> 0
F28: =C28+D28-E28 -> 0 | G28: {=IFERROR(INDEX(('Schedule of Values'!G:G)*0.75,MATCH('Stored Materials'!A28,'Schedule of Values'!A:A,0),1),"")} | H28: =IF((C28+D28)<G28,C28+D28,IF((C28+D28)>G28,G28,"")) -> 0 | I28: =IF(C28>0,IF(C28<G28,C28,IF(C28>G28,G28,IF(C28=G28,C28))),0) -> 0 | J28: =IF(F28>0,IF((C28+D28)<G28,D28,IF((C28+D28)=G28,D28,IF(AND((C28+D28)>G28,I28<G28),G28-C28,0))),0) -> 0
F29: =C29+D29-E29 -> 0 | G29: {=IFERROR(INDEX(('Schedule of Values'!G:G)*0.75,MATCH('Stored Materials'!A29,'Schedule of Values'!A:A,0),1),"")} | H29: =IF((C29+D29)<G29,C29+D29,IF((C29+D29)>G29,G29,"")) -> 0 | I29: =IF(C29>0,IF(C29<G29,C29,IF(C29>G29,G29,IF(C29=G29,C29))),0) -> 0 | J29: =IF(F29>0,IF((C29+D29)<G29,D29,IF((C29+D29)=G29,D29,IF(AND((C29+D29)>G29,I29<G29),G29-C29,0))),0) -> 0
F30: =C30+D30-E30 -> 0 | G30: {=IFERROR(INDEX(('Schedule of Values'!G:G)*0.75,MATCH('Stored Materials'!A30,'Schedule of Values'!A:A,0),1),"")} | H30: =IF((C30+D30)<G30,C30+D30,IF((C30+D30)>G30,G30,"")) -> 0 | I30: =IF(C30>0,IF(C30<G30,C30,IF(C30>G30,G30,IF(C30=G30,C30))),0) -> 0 | J30: =IF(F30>0,IF((C30+D30)<G30,D30,IF((C30+D30)=G30,D30,IF(AND((C30+D30)>G30,I30<G30),G30-C30,0))),0) -> 0
F31: =C31+D31-E31 -> 0 | G31: {=IFERROR(INDEX(('Schedule of Values'!G:G)*0.75,MATCH('Stored Materials'!A31,'Schedule of Values'!A:A,0),1),"")} | H31: =IF((C31+D31)<G31,C31+D31,IF((C31+D31)>G31,G31,"")) -> 0 | I31: =IF(C31>0,IF(C31<G31,C31,IF(C31>G31,G31,IF(C31=G31,C31))),0) -> 0 | J31: =IF(F31>0,IF((C31+D31)<G31,D31,IF((C31+D31)=G31,D31,IF(AND((C31+D31)>G31,I31<G31),G31-C31,0))),0) -> 0
F32: =C32+D32-E32 -> 0 | G32: {=IFERROR(INDEX(('Schedule of Values'!G:G)*0.75,MATCH('Stored Materials'!A32,'Schedule of Values'!A:A,0),1),"")} | H32: =IF((C32+D32)<G32,C32+D32,IF((C32+D32)>G32,G32,"")) -> 0 | I32: =IF(C32>0,IF(C32<G32,C32,IF(C32>G32,G32,IF(C32=G32,C32))),0) -> 0 | J32: =IF(F32>0,IF((C32+D32)<G32,D32,IF((C32+D32)=G32,D32,IF(AND((C32+D32)>G32,I32<G32),G32-C32,0))),0) -> 0
F33: =C33+D33-E33 -> 0 | G33: {=IFERROR(INDEX(('Schedule of Values'!G:G)*0.75,MATCH('Stored Materials'!A33,'Schedule of Values'!A:A,0),1),"")} | H33: =IF((C33+D33)<G33,C33+D33,IF((C33+D33)>G33,G33,"")) -> 0 | I33: =IF(C33>0,IF(C33<G33,C33,IF(C33>G33,G33,IF(C33=G33,C33))),0) -> 0 | J33: =IF(F33>0,IF((C33+D33)<G33,D33,IF((C33+D33)=G33,D33,IF(AND((C33+D33)>G33,I33<G33),G33-C33,0))),0) -> 0
F34: =C34+D34-E34 -> 0 | G34: {=IFERROR(INDEX(('Schedule of Values'!G:G)*0.75,MATCH('Stored Materials'!A34,'Schedule of Values'!A:A,0),1),"")} | H34: =IF((C34+D34)<G34,C34+D34,IF((C34+D34)>G34,G34,"")) -> 0 | I34: =IF(C34>0,IF(C34<G34,C34,IF(C34>G34,G34,IF(C34=G34,C34))),0) -> 0 | J34: =IF(F34>0,IF((C34+D34)<G34,D34,IF((C34+D34)=G34,D34,IF(AND((C34+D34)>G34,I34<G34),G34-C34,0))),0) -> 0
F35: =C35+D35-E35 -> 0 | G35: {=IFERROR(INDEX(('Schedule of Values'!G:G)*0.75,MATCH('Stored Materials'!A35,'Schedule of Values'!A:A,0),1),"")} | H35: =IF((C35+D35)<G35,C35+D35,IF((C35+D35)>G35,G35,"")) -> 0 | I35: =IF(C35>0,IF(C35<G35,C35,IF(C35>G35,G35,IF(C35=G35,C35))),0) -> 0 | J35: =IF(F35>0,IF((C35+D35)<G35,D35,IF((C35+D35)=G35,D35,IF(AND((C35+D35)>G35,I35<G35),G35-C35,0))),0) -> 0
... F55: =C55+D55-E55 -> 0 | G55: {=IFERROR(INDEX(('Schedule of Values'!G:G)*0.75,MATCH('Stored Materials'!A55,'Schedule of Values'!A:A,0),1),"")} | H55: =IF((C55+D55)<G55,C55+D55,IF((C55+D55)>G55,G55,"")) -> 0 | I55: =IF(C55>0,IF(C55<G55,C55,IF(C55>G55,G55,IF(C55=G55,C55))),0) -> 0 | J55: =IF(F55>0,IF((C55+D55)<G55,D55,IF((C55+D55)=G55,D55,IF(AND((C55+D55)>G55,I55<G55),G55-C55,0))),0) -> 0
B56: TOTALS | C56: =SUM(C13:C55) -> 0 | D56: =SUM(D13:D55) -> 0 | E56: =SUM(E13:E55) -> 0 | F56: =SUM(F13:F55) -> 0 | G56: =SUM(G13:G55) -> 0 | H56: =SUM(H13:H55) -> 0 | I56: =SUM(I13:I55) -> 0 | J56: =SUM(J13:J55) -> 0
A58: (1) Copies of actual invoices for each supplier must be attached
A59: (2) Column D from Last Payment.
A60: (3) Total value of stored material being claimed this period
...

Sheet Attachment 1
A1: Section II. | H1: ='Pay Application'!I1 -> Form No. WO CPAAP-4.22.2024
A2: Project: | B2: =+'Pay Application'!B6 -> 0 | F2: ATTACHMENT 1 | H2: Appl # | I2: =+'Pay Application'!K6 -> 0
A3: CIP # | B3: =+'Pay Application'!B7 -> 0 | H3: Appl Date | I3: =+'Pay Application'!K7 -> 0
A4: Bid # | B4: =+'Pay Application'!B9 -> 0 | E4: * (Prior applications; see section II, item 4) | H4: For Per From | I4: =+'Pay Application'!K8 -> 0
A5: Contractor: | B5: =+'Pay Application'!B8 -> 0 | H5: For Per To | I5: =+'Pay Application'!K9 -> 0
A8: Name of Entity | C8: Relationship | E8: Amount in Dispute | F8: Application for Payment No. or Corresponding line item reference to Schedule of Values | H8: Explanation
A27: This Page IS NOT Applicable
H29: Contractor Signature

Sheet Attachment 2
A1: Section II. | H1: ='Pay Application'!I1 -> Form No. WO CPAAP-4.22.2024
A2: Project: | B2: =+'Pay Application'!B6 -> 0 | F2: ATTACHMENT 2 | H2: Appl # | I2: =+'Pay Application'!K6 -> 0
A3: CIP # | B3: =+'Pay Application'!B7 -> 0 | H3: Appl Date | I3: =+'Pay Application'!K7 -> 0
A4: Bid # | B4: =+'Pay Application'!B9 -> 0 | E4: * (Current applications; see section II, item 5) | H4: For Per From | I4: =+'Pay Application'!K8 -> 0
A5: Contractor: | B5: =+'Pay Application'!B8 -> 0 | H5: For Per To | I5: =+'Pay Application'!K9 -> 0
A8: Name of Entity | C8: Relationship | E8: Amount in Dispute | F8: Application for Payment No. or Corresponding line item reference to Schedule of Values | H8: Explanation
A27: This Page IS NOT Applicable
H29: Contractor Signature
