Workbook

Sheet Credit Tracker
A1: ACR Convergence 2026 Credit Tracker
A2: This form is for personal credit tracking puposes only. All credit must be claimed in the ACR Education center prior to the credit claiming deadline.
A4: Instructions:
A5: 1. Save this document to your device.
A6: 2. Select your accrediting body in cell B15 from the dropdown. You can change the accrediting body at any time to view different credit totals.
A7: 3. Use Column F to document each session you attended / viewed on demand: in the session row, select Yes.
A8: 4. After you complete your selections, cell B16 will display your earned credit total based on the accrediting body selected.
A9: 5. Save your changes to this document often.
A11: When you are ready to claim credit, go to the ACR Education Center and complete the required steps. Education Center link below.
A12: https://learn.rheumatology.org/
A13: Claim only the credit applicable to your accrediting body and participation.
A15: Select accrediting body from dropdown: | B15: CME
A16: Credits Earned: | B16: =SUM(H18:H502) -> 0
A17: Date | B17: Start Time | C17: End Time | D17: Room Number | E17: Session Name | F17: Attended? | G17: Applicable Credit | H17: Earned Credit
A18: =Data!A2 -> 11/06/2026 | B18: =Data!B2 -> 8:00 AM | C18: =Data!C2 -> 9:00 AM | D18: =Data!D2 -> Virtual | E18: =Data!E2 -> Global Rheumatology Summit Opening Session | G18: =IF(A18="",0,INDEX(Data!F2:L2,MATCH($B$15,Data!F$1:L$1,0))) -> 1 | H18: =IF(F18="Yes",G18,0) -> 0
A19: =Data!A3 -> 11/06/2026 | B19: =Data!B3 -> 9:05 AM | C19: =Data!C3 -> 10:05 AM | D19: =Data!D3 -> Virtual | E19: =Data!E3 -> Global Summit: Integrating Physical Activity, Exercise and Patient Self-Management into Rheumatology Care | G19: =IF(A19="",0,INDEX(Data!F3:L3,MATCH($B$15,Data!F$1:L$1,0))) -> 1 | H19: =IF(F19="Yes",G19,0) -> 0
A20: =Data!A4 -> 11/06/2026 | B20: =Data!B4 -> 10:10 AM | C20: =Data!C4 -> 11:10 AM | D20: =Data!D4 -> Virtual | E20: =Data!E4 -> Global Summit: Harnessing Artificial Intelligence to Transform Global Rheumatology | G20: =IF(A20="",0,INDEX(Data!F4:L4,MATCH($B$15,Data!F$1:L$1,0))) -> 1 | H20: =IF(F20="Yes",G20,0) -> 0
A21: =Data!A5 -> 11/06/2026 | B21: =Data!B5 -> 11:15 AM | C21: =Data!C5 -> 12:30 PM | D21: =Data!D5 -> Virtual | E21: =Data!E5 -> Global Summit: Global Meet the Experts - Infectious Disease | G21: =IF(A21="",0,INDEX(Data!F5:L5,MATCH($B$15,Data!F$1:L$1,0))) -> 1.25 | H21: =IF(F21="Yes",G21,0) -> 0
A22: =Data!A6 -> 11/06/2026 | B22: =Data!B6 -> 12:20 PM | C22: =Data!C6 -> 1:00 PM | D22: =Data!D6 -> W415D | E22: =Data!E6 -> Keeping Up with Rheumatology | G22: =IF(A22="",0,INDEX(Data!F6:L6,MATCH($B$15,Data!F$1:L$1,0))) -> 0.75 | H22: =IF(F22="Yes",G22,0) -> 0
A23: =Data!A7 -> 11/06/2026 | B23: =Data!B7 -> 1:00 PM | C23: =Data!C7 -> 1:55 PM | D23: =Data!D7 -> W415D | E23: =Data!E7 -> EscapeRheum | G23: =IF(A23="",0,INDEX(Data!F7:L7,MATCH($B$15,Data!F$1:L$1,0))) -> 1 | H23: =IF(F23="Yes",G23,0) -> 0
A24: =Data!A8 -> 11/06/2026 | B24: =Data!B8 -> 1:00 PM | C24: =Data!C8 -> 2:00 PM | D24: =Data!D8 -> Virtual | E24: =Data!E8 -> Global Summit: Managing Pain Worldwide: Disparities, Innovations, and Cultural Contexts | G24: =IF(A24="",0,INDEX(Data!F8:L8,MATCH($B$15,Data!F$1:L$1,0))) -> 1 | H24: =IF(F24="Yes",G24,0) -> 0
A25: =Data!A9 -> 11/06/2026 | B25: =Data!B9 -> 2:00 PM | C25: =Data!C9 -> 3:00 PM | D25: =Data!D9 -> W415D | E25: =Data!E9 -> Career Panel with Q & A | G25: =IF(A25="",0,INDEX(Data!F9:L9,MATCH($B$15,Data!F$1:L$1,0))) -> 1 | H25: =IF(F25="Yes",G25,0) -> 0
A26: =Data!A10 -> 11/06/2026 | B26: =Data!B10 -> 2:05 PM | C26: =Data!C10 -> 3:05 PM | D26: =Data!D10 -> Virtual | E26: =Data!E10 -> Global Summit: Enhancing Rheumatology Outcomes Globally through Community and Patient-Led Initiatives | G26: =IF(A26="",0,INDEX(Data!F10:L10,MATCH($B$15,Data!F$1:L$1,0))) -> 1 | H26: =IF(F26="Yes",G26,0) -> 0
A27: =Data!A11 -> 11/06/2026 | B27: =Data!B11 -> 3:10 PM | C27: =Data!C11 -> 4:20 PM | D27: =Data!D11 -> Virtual | E27: =Data!E11 -> Global Summit: Community Practice Roundtable: Global LARs Perspectives | G27: =IF(A27="",0,INDEX(Data!F11:L11,MATCH($B$15,Data!F$1:L$1,0))) -> 1 | H27: =IF(F27="Yes",G27,0) -> 0
A28: =Data!A12 -> 11/06/2026 | B28: =Data!B12 -> 3:25 PM | C28: =Data!C12 -> 4:15 PM | D28: =Data!D12 -> W415D | E28: =Data!E12 -> Picture This: Clinical Image Challenge | G28: =IF(A28="",0,INDEX(Data!F12:L12,MATCH($B$15,Data!F$1:L$1,0))) -> 0.75 | H28: =IF(F28="Yes",G28,0) -> 0
A29: =Data!A13 -> 11/06/2026 | B29: =Data!B13 -> 4:20 PM | C29: =Data!C13 -> 5:45 PM | D29: =Data!D13 -> W415D | E29: =Data!E13 -> FIT Program: Learning from the Expert: Rheumatology Roundtables | G29: =IF(A29="",0,INDEX(Data!F13:L13,MATCH($B$15,Data!F$1:L$1,0))) -> 1.25 | H29: =IF(F29="Yes",G29,0) -> 0
... A502: =Data!A486 -> 0 | B502: =Data!B486 -> 0 | C502: =Data!C486 -> 0 | D502: =Data!D486 -> 0 | E502: =Data!E486 -> 0 | G502: =IF(A502="",0,INDEX(Data!F486:L486,MATCH($B$15,Data!F$1:L$1,0))) -> 0 | H502: =IF(F502="Yes",G502,0) -> 0

Sheet How to Claim Credit
A1: The deadline to claim credit is September 30, 2027.
A3: 1. Open the ACR Education Center in your web browser:
A4: https://learn.rheumatology.org/
A5: 2. Log in using your ACR username and password
A6: 3. Select My Learning from the upper-left corner of the page.
A7: 4. Under My Meetings, click ACR Convergence 2026.
A8: 5. Review the Meeting Information & Resources page. At the bottom of the page, click Next.
A9: 6. Review the Evaluation + Reflective Statement page. At the bottom of the page, click 'Click here to start'.
A10: 7. Complete the Activity Evaluation & Reflective Statement and click Submit. Review the Key Resources and click Next.
A11: 8. On the Claim Credit page, select the credit type you wish to claim.
A12: 9. Enter the number of credits you are claiming in the Enter Credits field. Credits must be entered in 0.25-hour increments.
A13: 10. If claiming MOC points, enter your ABIM and/or ABP ID number(s) and date of birth.
... A17: 14. Click Certificates to generate and download your certificate.

Sheet Data
A1: Date | B1: Start Time | C1: End Time | D1: Room Number | E1: Session Name | F1: CME | G1: ABIM MOC | H1: ABP MOC | I1: AAPA | J1: ANCC | K1: ACPE | L1: ASWB ACE
A2: 11/06/2026 | B2: 8:00 AM | C2: 9:00 AM | D2: Virtual | E2: Global Rheumatology Summit Opening Session | F2: 1 | G2: 1 | H2: 1 | I2: 1 | J2: 1 | K2: 0 | L2: 0
A3: 11/06/2026 | B3: 9:05 AM | C3: 10:05 AM | D3: Virtual | E3: Global Summit: Integrating Physical Activity, Exercise and Patient Self-Management into Rheumatology Care | F3: 1 | G3: 1 | H3: 1 | I3: 1 | J3: 1 | K3: 0 | L3: 0
A4: 11/06/2026 | B4: 10:10 AM | C4: 11:10 AM | D4: Virtual | E4: Global Summit: Harnessing Artificial Intelligence to Transform Global Rheumatology | F4: 1 | G4: 1 | H4: 1 | I4: 1 | J4: 1 | K4: 0 | L4: 0
A5: 11/06/2026 | B5: 11:15 AM | C5: 12:30 PM | D5: Virtual | E5: Global Summit: Global Meet the Experts - Infectious Disease | F5: 1.25 | G5: 1.25 | H5: 1.25 | I5: 1.25 | J5: 1.25 | K5: 0 | L5: 0
A6: 11/06/2026 | B6: 12:20 PM | C6: 1:00 PM | D6: W415D | E6: Keeping Up with Rheumatology | F6: 0.75 | G6: 0.75 | H6: 0.75 | I6: 0.75 | J6: 0.75 | K6: 0 | L6: 0
A7: 11/06/2026 | B7: 1:00 PM | C7: 1:55 PM | D7: W415D | E7: EscapeRheum | F7: 1 | G7: 1 | H7: 1 | I7: 1 | J7: 1 | K7: 0 | L7: 0
A8: 11/06/2026 | B8: 1:00 PM | C8: 2:00 PM | D8: Virtual | E8: Global Summit: Managing Pain Worldwide: Disparities, Innovations, and Cultural Contexts | F8: 1 | G8: 1 | H8: 1 | I8: 1 | J8: 1 | K8: 0 | L8: 0
A9: 11/06/2026 | B9: 2:00 PM | C9: 3:00 PM | D9: W415D | E9: Career Panel with Q & A | F9: 1 | G9: 1 | H9: 1 | I9: 1 | J9: 1 | K9: 0 | L9: 0
A10: 11/06/2026 | B10: 2:05 PM | C10: 3:05 PM | D10: Virtual | E10: Global Summit: Enhancing Rheumatology Outcomes Globally through Community and Patient-Led Initiatives | F10: 1 | G10: 1 | H10: 1 | I10: 1 | J10: 1 | K10: 0 | L10: 0
A11: 11/06/2026 | B11: 3:10 PM | C11: 4:20 PM | D11: Virtual | E11: Global Summit: Community Practice Roundtable: Global LARs Perspectives | F11: 1 | G11: 1 | H11: 1 | I11: 1 | J11: 1 | K11: 0 | L11: 0
A12: 11/06/2026 | B12: 3:25 PM | C12: 4:15 PM | D12: W415D | E12: Picture This: Clinical Image Challenge | F12: 0.75 | G12: 0.75 | H12: 0.75 | I12: 0.75 | J12: 0.75 | K12: 0 | L12: 0
A13: 11/06/2026 | B13: 4:20 PM | C13: 5:45 PM | D13: W415D | E13: FIT Program: Learning from the Expert: Rheumatology Roundtables | F13: 1.25 | G13: 1.25 | H13: 1.25 | I13: 1.25 | J13: 1.25 | K13: 0 | L13: 0
... A223: 11/11/2026 | B223: 10:00 AM | C223: 11:00 AM | D223: W308 | E223: The Resilient Rheumatologist: Smart Strategies for Career Transitions | F223: 1 | G223: 1 | H223: 1 | I223: 1 | J223: 1 | K223: 0 | L223: 1
